BEGIN:VCALENDAR
VERSION:2.0
PRODID:-//Aurore Vitré Tennis de Table - ECPv5.1.2.1//NONSGML v1.0//EN
CALSCALE:GREGORIAN
METHOD:PUBLISH
X-WR-CALNAME:Aurore Vitré Tennis de Table
X-ORIGINAL-URL:http://aurorevitrett.fr/tt
X-WR-CALDESC:Évènements pour Aurore Vitré Tennis de Table
BEGIN:VTIMEZONE
TZID:Europe/Paris
BEGIN:DAYLIGHT
TZOFFSETFROM:+0100
TZOFFSETTO:+0200
TZNAME:CEST
DTSTART:20210328T010000
END:DAYLIGHT
BEGIN:STANDARD
TZOFFSETFROM:+0200
TZOFFSETTO:+0100
TZNAME:CET
DTSTART:20211031T010000
END:STANDARD
END:VTIMEZONE
BEGIN:VEVENT
DTSTART;VALUE=DATE:20210605
DTEND;VALUE=DATE:20210606
DTSTAMP:20260421T212656
CREATED:20200531T183615Z
LAST-MODIFIED:20200531T183615Z
UID:5697-1622851200-1622937599@aurorevitrett.fr
SUMMARY:Circuit Jeunes
DESCRIPTION:6ème Tour du Circuit des Jeunes: \nParticipants: \n– Poussins: \n– Benjamins: \n– Minimes: \n– Filles:  \ndébut à 9h30 pour les poussins et les minimes\ndébut à 14h30 pour les benjamins\ndébut à 10h30 pour les filles \n
URL:http://aurorevitrett.fr/tt/index.php/event/circuit-jeunes-6/
LOCATION:Mordelles – salle beauséjour\, mordelles\, 35310\, France
END:VEVENT
END:VCALENDAR